BEGIN:VCALENDAR
VERSION:2.0
CALSCALE:GREGORIAN
PRODID:-//Diputació de Barcelona//DibaCMS//EN
BEGIN:VEVENT
UID:3797
DTSTAMP:20260421T012832
DTSTART:20240301T180000
DTEND:20240301T190000
SUMMARY:Reunió nuclis de població: La Vinya del Pollastre 
LOCATION:LA SALA DE SANT JOAN SAMORA  
(C.DE LES FLORS,15) 
METHOD:PUBLISH
X-WR-CALNAME:st.llorensh@ajhortons.cat
X-WR-TIMEZONE:Europe/Madrid
DESCRIPTION:
URI:https://www.ajhortons.cat/actualitat/agenda/reunio-nuclis-de-poblacio-la-vinya-del-pollastre-.html
CLASS:PUBLIC
END:VEVENT
END:VCALENDAR
