BEGIN:VCALENDAR
VERSION:2.0
CALSCALE:GREGORIAN
PRODID:-//Diputació de Barcelona//DibaCMS//EN
BEGIN:VEVENT
UID:3800
DTSTAMP:20260420T233728
DTSTART:20240310T170000
DTEND:20240310T183500
SUMMARY:ESTEREOTIPS (titelles)
LOCATION:Major, 47 08791 Sant Llorenç d'Hortons
METHOD:PUBLISH
X-WR-CALNAME:st.llorensh@ajhortons.cat
X-WR-TIMEZONE:Europe/Madrid
DESCRIPTION:Espectacle familiar de diversitat familiar

URI:https://www.ajhortons.cat/actualitat/agenda/estereotips-titelles.html
CLASS:PUBLIC
END:VEVENT
END:VCALENDAR
