BEGIN:VCALENDAR
VERSION:2.0
CALSCALE:GREGORIAN
PRODID:-//Diputació de Barcelona//DibaCMS//EN
BEGIN:VEVENT
UID:3801
DTSTAMP:20260420T214546
DTSTART:20240314T170000
DTEND:20240314T180000
SUMMARY:Xerrada al Casal de la Gent Gran: Digestions dificils 
LOCATION: Carrer - Diputació 27 - 08791 Sant Llorenç d'Hortons - Barcelona (Catalunya) 08791 Sant Llorenç d'Hortons
METHOD:PUBLISH
X-WR-CALNAME:st.llorensh@ajhortons.cat
X-WR-TIMEZONE:Europe/Madrid
DESCRIPTION:
URI:https://www.ajhortons.cat/actualitat/agenda/xerrada-al-casal-de-la-gent-gran-digestions-dificils-.html
CLASS:PUBLIC
END:VEVENT
END:VCALENDAR
