BEGIN:VCALENDAR
VERSION:2.0
CALSCALE:GREGORIAN
PRODID:-//Diputació de Barcelona//DibaCMS//EN
BEGIN:VEVENT
UID:3803
DTSTAMP:20260420T230259
DTSTART:20240309T100000
DTEND:20240309T110000
SUMMARY:Inauguració mural Joana Raspall
LOCATION:Carrer Generalitat,47 
METHOD:PUBLISH
X-WR-CALNAME:st.llorensh@ajhortons.cat
X-WR-TIMEZONE:Europe/Madrid
DESCRIPTION:Visibilitzem les dones de la nostra història 

URI:https://www.ajhortons.cat/actualitat/agenda/inauguracio-mural-joana-raspall.html
CLASS:PUBLIC
END:VEVENT
END:VCALENDAR
