BEGIN:VCALENDAR
VERSION:2.0
CALSCALE:GREGORIAN
PRODID:-//Diputació de Barcelona//DibaCMS//EN
BEGIN:VEVENT
UID:3804
DTSTAMP:20260420T214939
DTSTART:20240309T180000
DTEND:20240309T190000
SUMMARY:Reunió nuclis de població: El Grandet 
LOCATION:Sant Llorenç, 127 Urb. El Grandet 08791 Sant Llorenç d'Hortons
METHOD:PUBLISH
X-WR-CALNAME:st.llorensh@ajhortons.cat
X-WR-TIMEZONE:Europe/Madrid
DESCRIPTION:
URI:https://www.ajhortons.cat/actualitat/agenda/reunio-nuclis-de-poblacio-el-grandet-.html
CLASS:PUBLIC
END:VEVENT
END:VCALENDAR
