BEGIN:VCALENDAR
VERSION:2.0
CALSCALE:GREGORIAN
PRODID:-//Diputació de Barcelona//DibaCMS//EN
BEGIN:VEVENT
UID:3806
DTSTAMP:20260421T020240
DTSTART:20240414T080000
DTEND:20240414T130000
SUMMARY:Sortida Caminaires :La Gelidense 
LOCATION:
METHOD:PUBLISH
X-WR-CALNAME:st.llorensh@ajhortons.cat
X-WR-TIMEZONE:Europe/Madrid
DESCRIPTION:Activitat gratuïta

URI:https://www.ajhortons.cat/actualitat/agenda/sortida-caminaires-la-gelidense-.html
CLASS:PUBLIC
END:VEVENT
END:VCALENDAR
