BEGIN:VCALENDAR
VERSION:2.0
CALSCALE:GREGORIAN
PRODID:-//Diputació de Barcelona//DibaCMS//EN
BEGIN:VEVENT
UID:3811
DTSTAMP:20260421T000514
DTSTART:20240410T200000
DTEND:20240410T210000
SUMMARY:Club de lectura: Quan el món es va trencar"
LOCATION:
METHOD:PUBLISH
X-WR-CALNAME:st.llorensh@ajhortons.cat
X-WR-TIMEZONE:Europe/Madrid
DESCRIPTION:
URI:https://www.ajhortons.cat/actualitat/agenda/club-de-lectura-quan-el-mon-es-va-trencar.html
CLASS:PUBLIC
END:VEVENT
END:VCALENDAR
