BEGIN:VCALENDAR
VERSION:2.0
CALSCALE:GREGORIAN
PRODID:-//Diputació de Barcelona//DibaCMS//EN
BEGIN:VEVENT
UID:3812
DTSTAMP:20260421T020712
DTSTART:20240323T180000
DTEND:20240323T190000
SUMMARY:Reunió nuclis de població: Sant Joan Samora
LOCATION:
METHOD:PUBLISH
X-WR-CALNAME:st.llorensh@ajhortons.cat
X-WR-TIMEZONE:Europe/Madrid
DESCRIPTION:
URI:https://www.ajhortons.cat/actualitat/agenda/reunio-nuclis-de-poblacio-sant-joan-samora.html
CLASS:PUBLIC
END:VEVENT
END:VCALENDAR
