BEGIN:VCALENDAR
VERSION:2.0
CALSCALE:GREGORIAN
PRODID:-//Diputació de Barcelona//DibaCMS//EN
BEGIN:VEVENT
UID:3814
DTSTAMP:20260420T220857
DTSTART:20240315T010000
DTEND:20240315T210000
SUMMARY:Dia del consumidor
LOCATION:
METHOD:PUBLISH
X-WR-CALNAME:st.llorensh@ajhortons.cat
X-WR-TIMEZONE:Europe/Madrid
DESCRIPTION:
URI:https://www.ajhortons.cat/actualitat/agenda/dia-del-consumidor.html
CLASS:PUBLIC
END:VEVENT
END:VCALENDAR
