BEGIN:VCALENDAR
VERSION:2.0
CALSCALE:GREGORIAN
PRODID:-//Diputació de Barcelona//DibaCMS//EN
BEGIN:VEVENT
UID:3816
DTSTAMP:20260420T234419
DTSTART:20240314T010000
DTEND:20240314T230000
SUMMARY:Dia mundial de l'Endometriosi
LOCATION:
METHOD:PUBLISH
X-WR-CALNAME:st.llorensh@ajhortons.cat
X-WR-TIMEZONE:Europe/Madrid
DESCRIPTION:
URI:https://www.ajhortons.cat/actualitat/agenda/dia-mundial-de-lendometriosi.html
CLASS:PUBLIC
END:VEVENT
END:VCALENDAR
