BEGIN:VCALENDAR
VERSION:2.0
CALSCALE:GREGORIAN
PRODID:-//Diputació de Barcelona//DibaCMS//EN
BEGIN:VEVENT
UID:3829
DTSTAMP:20260420T220947
DTSTART:20240405T170000
DTEND:20240405T180000
SUMMARY:ACTE ANUL·LAT: (Re) pensant l'educació sexual (Documental)
LOCATION:Carrer Generalitat,47 
METHOD:PUBLISH
X-WR-CALNAME:st.llorensh@ajhortons.cat
X-WR-TIMEZONE:Europe/Madrid
DESCRIPTION:
URI:https://www.ajhortons.cat/actualitat/agenda/acte-anullat-re-pensant-leducacio-sexual-documental.html
CLASS:PUBLIC
END:VEVENT
END:VCALENDAR
