BEGIN:VCALENDAR
VERSION:2.0
CALSCALE:GREGORIAN
PRODID:-//Diputació de Barcelona//DibaCMS//EN
BEGIN:VEVENT
UID:3831
DTSTAMP:20260420T220635
DTSTART:20240321T000000
DTEND:20240322T000000
SUMMARY:Dia Internacional de l'Eliminació de la Discriminació Racial
LOCATION:
METHOD:PUBLISH
X-WR-CALNAME:st.llorensh@ajhortons.cat
X-WR-TIMEZONE:Europe/Madrid
DESCRIPTION:
URI:https://www.ajhortons.cat/actualitat/agenda/dia-internacional-de-leliminacio-de-la-discriminacio-racial.html
CLASS:PUBLIC
END:VEVENT
END:VCALENDAR
