BEGIN:VCALENDAR
VERSION:2.0
CALSCALE:GREGORIAN
PRODID:-//Diputació de Barcelona//DibaCMS//EN
BEGIN:VEVENT
UID:3832
DTSTAMP:20260420T214703
DTSTART:20240322T150000
DTEND:20240322T180000
SUMMARY:Volta Ciclista de Catalunya 
LOCATION:
METHOD:PUBLISH
X-WR-CALNAME:st.llorensh@ajhortons.cat
X-WR-TIMEZONE:Europe/Madrid
DESCRIPTION:
URI:https://www.ajhortons.cat/actualitat/agenda/volta-ciclista-de-catalunya-.html
CLASS:PUBLIC
END:VEVENT
END:VCALENDAR
