BEGIN:VCALENDAR
VERSION:2.0
CALSCALE:GREGORIAN
PRODID:-//Diputació de Barcelona//DibaCMS//EN
BEGIN:VEVENT
UID:3833
DTSTAMP:20260420T201414
DTSTART:20240319T150000
DTEND:20240322T010000
SUMMARY:III Campus de futbol Setmana Santa
LOCATION:
METHOD:PUBLISH
X-WR-CALNAME:st.llorensh@ajhortons.cat
X-WR-TIMEZONE:Europe/Madrid
DESCRIPTION:
URI:https://www.ajhortons.cat/actualitat/agenda/iii-campus-de-futbol-setmana-santa.html
CLASS:PUBLIC
END:VEVENT
END:VCALENDAR
