BEGIN:VCALENDAR
VERSION:2.0
CALSCALE:GREGORIAN
PRODID:-//Diputació de Barcelona//DibaCMS//EN
BEGIN:VEVENT
UID:3843
DTSTAMP:20260420T215230
DTSTART:20240407T100000
DTEND:20240407T123000
SUMMARY:Mirada Endins  
LOCATION:Davant  de l'ajuntament  
METHOD:PUBLISH
X-WR-CALNAME:st.llorensh@ajhortons.cat
X-WR-TIMEZONE:Europe/Madrid
DESCRIPTION:
URI:https://www.ajhortons.cat/actualitat/agenda/3843-mirada-endins-.html
CLASS:PUBLIC
END:VEVENT
END:VCALENDAR
