BEGIN:VCALENDAR
VERSION:2.0
CALSCALE:GREGORIAN
PRODID:-//Diputació de Barcelona//DibaCMS//EN
BEGIN:VEVENT
UID:3853
DTSTAMP:20260420T214902
DTSTART:20240427T111500
DTEND:20240427T140000
SUMMARY:Viart:2024 The A swing band
LOCATION:08791 Sant Llorenç d'Hortons
METHOD:PUBLISH
X-WR-CALNAME:st.llorensh@ajhortons.cat
X-WR-TIMEZONE:Europe/Madrid
DESCRIPTION:
URI:https://www.ajhortons.cat/temes/cultura/viart-2026/agenda-infantil-viart-2024/viart2024-the-a-swing-band.html
CLASS:PUBLIC
END:VEVENT
END:VCALENDAR
