BEGIN:VCALENDAR
VERSION:2.0
CALSCALE:GREGORIAN
PRODID:-//Diputació de Barcelona//DibaCMS//EN
BEGIN:VEVENT
UID:3869
DTSTAMP:20260420T201834
DTSTART:20240412T170000
DTEND:20240412T180000
SUMMARY:Cursa d'orientació fotogràfica
LOCATION:
METHOD:PUBLISH
X-WR-CALNAME:st.llorensh@ajhortons.cat
X-WR-TIMEZONE:Europe/Madrid
DESCRIPTION:
URI:https://www.ajhortons.cat/actualitat/agenda/cursa-dorientacio-fotografica.html
CLASS:PUBLIC
END:VEVENT
END:VCALENDAR
