BEGIN:VCALENDAR
VERSION:2.0
CALSCALE:GREGORIAN
PRODID:-//Diputació de Barcelona//DibaCMS//EN
BEGIN:VEVENT
UID:3880
DTSTAMP:20260420T232322
DTSTART:20240427T111500
DTEND:20240427T140000
SUMMARY:Espai Terrazel amb el taller 
LOCATION:c/ Major 36 08791 Sant Llorenç d'Hortons
METHOD:PUBLISH
X-WR-CALNAME:st.llorensh@ajhortons.cat
X-WR-TIMEZONE:Europe/Madrid
DESCRIPTION:Enfaixat't i prova els gegants.

URI:https://www.ajhortons.cat/actualitat/agenda/espai-terrazel-amb-el-taller-.html
CLASS:PUBLIC
END:VEVENT
END:VCALENDAR
