BEGIN:VCALENDAR
VERSION:2.0
CALSCALE:GREGORIAN
PRODID:-//Diputació de Barcelona//DibaCMS//EN
BEGIN:VEVENT
UID:3881
DTSTAMP:20260420T234312
DTSTART:20240423T151500
DTEND:20240423T170000
SUMMARY:Representació de  Sant Jordi Escola Pau Casals 
LOCATION:Pau Casals, 12 08791 Sant Llorenç d'Hortons
METHOD:PUBLISH
X-WR-CALNAME:st.llorensh@ajhortons.cat
X-WR-TIMEZONE:Europe/Madrid
DESCRIPTION:
URI:https://www.ajhortons.cat/actualitat/agenda/representacio-de-sant-jordi-escola-pau-casals-.html
CLASS:PUBLIC
END:VEVENT
END:VCALENDAR
