BEGIN:VCALENDAR
VERSION:2.0
CALSCALE:GREGORIAN
PRODID:-//Diputació de Barcelona//DibaCMS//EN
BEGIN:VEVENT
UID:3889
DTSTAMP:20260420T220725
DTSTART:20240427T160000
DTEND:20240427T180000
SUMMARY:VIART: Taller infantil de pintar un titella
LOCATION:
METHOD:PUBLISH
X-WR-CALNAME:st.llorensh@ajhortons.cat
X-WR-TIMEZONE:Europe/Madrid
DESCRIPTION:
URI:https://www.ajhortons.cat/temes/cultura/viart-2026/agenda-infantil-viart-2024/viart-taller-infantil-de-pintar-un-titella.html
CLASS:PUBLIC
END:VEVENT
END:VCALENDAR
