BEGIN:VCALENDAR
VERSION:2.0
CALSCALE:GREGORIAN
PRODID:-//Diputació de Barcelona//DibaCMS//EN
BEGIN:VEVENT
UID:3896
DTSTAMP:20260420T235732
DTSTART:20240427T120000
DTEND:20240427T220000
SUMMARY:Cates ViArt 2024  - duplicat
LOCATION:Major, 47 08791 Sant Llorenç d'Hortons
METHOD:PUBLISH
X-WR-CALNAME:st.llorensh@ajhortons.cat
X-WR-TIMEZONE:Europe/Madrid
DESCRIPTION:ViArt 2024 

URI:https://www.ajhortons.cat/temes/cultura/viart-2026/cates-viart-2024/cates-viart-2024-duplicat.html
CLASS:PUBLIC
END:VEVENT
END:VCALENDAR
