BEGIN:VCALENDAR
VERSION:2.0
CALSCALE:GREGORIAN
PRODID:-//Diputació de Barcelona//DibaCMS//EN
BEGIN:VEVENT
UID:3898
DTSTAMP:20260420T202617
DTSTART:20240508T200000
DTEND:20240508T210000
SUMMARY:Club de lectura: Charlotte Bronté
LOCATION:
METHOD:PUBLISH
X-WR-CALNAME:st.llorensh@ajhortons.cat
X-WR-TIMEZONE:Europe/Madrid
DESCRIPTION:
URI:https://www.ajhortons.cat/actualitat/agenda/club-de-lectura-charlotte-bronte.html
CLASS:PUBLIC
END:VEVENT
END:VCALENDAR
