BEGIN:VCALENDAR
VERSION:2.0
CALSCALE:GREGORIAN
PRODID:-//Diputació de Barcelona//DibaCMS//EN
BEGIN:VEVENT
UID:3899
DTSTAMP:20260420T220809
DTSTART:20240402T000000
DTEND:20240502T000000
SUMMARY:Dia Internacional Contra l'assetjament escolar 
LOCATION:
METHOD:PUBLISH
X-WR-CALNAME:st.llorensh@ajhortons.cat
X-WR-TIMEZONE:Europe/Madrid
DESCRIPTION:
URI:https://www.ajhortons.cat/actualitat/agenda/dia-internacional-contra-lassetjament-escolar-.html
CLASS:PUBLIC
END:VEVENT
END:VCALENDAR
