BEGIN:VCALENDAR
VERSION:2.0
CALSCALE:GREGORIAN
PRODID:-//Diputació de Barcelona//DibaCMS//EN
BEGIN:VEVENT
UID:3900
DTSTAMP:20260420T220909
DTSTART:20240411T170000
DTEND:20240411T200000
SUMMARY:Cinema:: Mi amor perdido 
LOCATION: Carrer - Diputació 27 - 08791 Sant Llorenç d'Hortons - Barcelona (Catalunya) 08791 Sant Llorenç d'Hortons
METHOD:PUBLISH
X-WR-CALNAME:st.llorensh@ajhortons.cat
X-WR-TIMEZONE:Europe/Madrid
DESCRIPTION:
URI:https://www.ajhortons.cat/actualitat/agenda/cinema-mi-amor-perdido-.html
CLASS:PUBLIC
END:VEVENT
END:VCALENDAR
