BEGIN:VCALENDAR
VERSION:2.0
CALSCALE:GREGORIAN
PRODID:-//Diputació de Barcelona//DibaCMS//EN
BEGIN:VEVENT
UID:3902
DTSTAMP:20260420T213224
DTSTART:20240509T100000
DTEND:20240509T110000
SUMMARY:Xerrada. servei local de teleassistència
LOCATION:
METHOD:PUBLISH
X-WR-CALNAME:st.llorensh@ajhortons.cat
X-WR-TIMEZONE:Europe/Madrid
DESCRIPTION:
URI:https://www.ajhortons.cat/actualitat/agenda/xerrada-servei-local-de-teleassistencia.html
CLASS:PUBLIC
END:VEVENT
END:VCALENDAR
