BEGIN:VCALENDAR
VERSION:2.0
CALSCALE:GREGORIAN
PRODID:-//Diputació de Barcelona//DibaCMS//EN
BEGIN:VEVENT
UID:3903
DTSTAMP:20260421T014356
DTSTART:20241114T110000
DTEND:20241114T120000
SUMMARY:Nova Xerrada: "Consells de seguretat per a la ciutadania"
LOCATION:
METHOD:PUBLISH
X-WR-CALNAME:st.llorensh@ajhortons.cat
X-WR-TIMEZONE:Europe/Madrid
DESCRIPTION:
URI:https://www.ajhortons.cat/actualitat/agenda/nova-xerrada-consells-de-seguretat-per-a-la-ciutadania.html
CLASS:PUBLIC
END:VEVENT
END:VCALENDAR
