BEGIN:VCALENDAR
VERSION:2.0
CALSCALE:GREGORIAN
PRODID:-//Diputació de Barcelona//DibaCMS//EN
BEGIN:VEVENT
UID:3904
DTSTAMP:20260420T234813
DTSTART:20240512T093000
DTEND:20240512T140000
SUMMARY:Festa del Roser
LOCATION:
METHOD:PUBLISH
X-WR-CALNAME:st.llorensh@ajhortons.cat
X-WR-TIMEZONE:Europe/Madrid
DESCRIPTION:Pots encarregar la garlanda fins el dia 09/05/2024

URI:https://www.ajhortons.cat/actualitat/agenda/3904-festa-del-roser.html
CLASS:PUBLIC
END:VEVENT
END:VCALENDAR
