BEGIN:VCALENDAR
VERSION:2.0
CALSCALE:GREGORIAN
PRODID:-//Diputació de Barcelona//DibaCMS//EN
BEGIN:VEVENT
UID:3908
DTSTAMP:20260420T213309
DTSTART:20240510T160000
DTEND:20240510T180000
SUMMARY:Festa de la primavera a l'Escola Bressol
LOCATION:
METHOD:PUBLISH
X-WR-CALNAME:st.llorensh@ajhortons.cat
X-WR-TIMEZONE:Europe/Madrid
DESCRIPTION:
URI:https://www.ajhortons.cat/actualitat/agenda/festa-de-la-primavera-a-lescola-bressol.html
CLASS:PUBLIC
END:VEVENT
END:VCALENDAR
