BEGIN:VCALENDAR
VERSION:2.0
CALSCALE:GREGORIAN
PRODID:-//Diputació de Barcelona//DibaCMS//EN
BEGIN:VEVENT
UID:3912
DTSTAMP:20260421T013435
DTSTART:20240519T090000
DTEND:20240519T130000
SUMMARY:Sortida Caminaires :La Font del Salt
LOCATION:
METHOD:PUBLISH
X-WR-CALNAME:st.llorensh@ajhortons.cat
X-WR-TIMEZONE:Europe/Madrid
DESCRIPTION:Activitat gratuïta

URI:https://www.ajhortons.cat/actualitat/agenda/sortida-caminaires-la-font-del-salt.html
CLASS:PUBLIC
END:VEVENT
END:VCALENDAR
