BEGIN:VCALENDAR
VERSION:2.0
CALSCALE:GREGORIAN
PRODID:-//Diputació de Barcelona//DibaCMS//EN
BEGIN:VEVENT
UID:3913
DTSTAMP:20260420T201640
DTSTART:20240616T180000
DTEND:20240616T203000
SUMMARY:Mirada Endins   
LOCATION:Davant  de l'ajuntament  
METHOD:PUBLISH
X-WR-CALNAME:st.llorensh@ajhortons.cat
X-WR-TIMEZONE:Europe/Madrid
DESCRIPTION:
URI:https://www.ajhortons.cat/actualitat/agenda/3913-mirada-endins-.html
CLASS:PUBLIC
END:VEVENT
END:VCALENDAR
