BEGIN:VCALENDAR
VERSION:2.0
CALSCALE:GREGORIAN
PRODID:-//Diputació de Barcelona//DibaCMS//EN
BEGIN:VEVENT
UID:3919
DTSTAMP:20260421T012954
DTSTART:20240526T100000
DTEND:20240526T140000
SUMMARY:Jornada de benestar animal
LOCATION:
METHOD:PUBLISH
X-WR-CALNAME:st.llorensh@ajhortons.cat
X-WR-TIMEZONE:Europe/Madrid
DESCRIPTION:Una activitat per a tota la família

URI:https://www.ajhortons.cat/actualitat/agenda/jornada-de-benestar-animal.html
CLASS:PUBLIC
END:VEVENT
END:VCALENDAR
