BEGIN:VCALENDAR
VERSION:2.0
CALSCALE:GREGORIAN
PRODID:-//Diputació de Barcelona//DibaCMS//EN
BEGIN:VEVENT
UID:3928
DTSTAMP:20260420T234751
DTSTART:20240605T200000
DTEND:20240605T210000
SUMMARY:Club de lectura: Massa deutes amb les flors 
LOCATION:
METHOD:PUBLISH
X-WR-CALNAME:st.llorensh@ajhortons.cat
X-WR-TIMEZONE:Europe/Madrid
DESCRIPTION:
URI:https://www.ajhortons.cat/actualitat/agenda/club-de-lectura-massa-deutes-amb-les-flors-.html
CLASS:PUBLIC
END:VEVENT
END:VCALENDAR
