BEGIN:VCALENDAR
VERSION:2.0
CALSCALE:GREGORIAN
PRODID:-//Diputació de Barcelona//DibaCMS//EN
BEGIN:VEVENT
UID:3931
DTSTAMP:20260420T233711
DTSTART:20240520T163000
DTEND:20240520T174000
SUMMARY:Hora del conte
LOCATION:carrer Generalitat número, 47 08791 Sant Llorenç d'Hortons
METHOD:PUBLISH
X-WR-CALNAME:st.llorensh@ajhortons.cat
X-WR-TIMEZONE:Europe/Madrid
DESCRIPTION:
URI:https://www.ajhortons.cat/actualitat/agenda/hora-del-conte.html
CLASS:PUBLIC
END:VEVENT
END:VCALENDAR
