BEGIN:VCALENDAR
VERSION:2.0
CALSCALE:GREGORIAN
PRODID:-//Diputació de Barcelona//DibaCMS//EN
BEGIN:VEVENT
UID:3935
DTSTAMP:20260421T012658
DTSTART:20240530T170000
DTEND:20240530T180000
SUMMARY:Xerrada: la llei d'atenció a la dependència i les seves prestacions
LOCATION: Carrer - Diputació 27 - 08791 Sant Llorenç d'Hortons - Barcelona (Catalunya) 08791 Sant Llorenç d'Hortons
METHOD:PUBLISH
X-WR-CALNAME:st.llorensh@ajhortons.cat
X-WR-TIMEZONE:Europe/Madrid
DESCRIPTION:
URI:https://www.ajhortons.cat/actualitat/agenda/xerrada-la-llei-datencio-a-la-dependencia-i-les-seves-prestacions.html
CLASS:PUBLIC
END:VEVENT
END:VCALENDAR
