BEGIN:VCALENDAR
VERSION:2.0
CALSCALE:GREGORIAN
PRODID:-//Diputació de Barcelona//DibaCMS//EN
BEGIN:VEVENT
UID:3937
DTSTAMP:20260420T234556
DTSTART:20240517T170000
DTEND:20240607T193000
SUMMARY:Activitat de Cal Jove 
LOCATION:Major, 27 08791 Sant Llorenç d'Hortons
METHOD:PUBLISH
X-WR-CALNAME:st.llorensh@ajhortons.cat
X-WR-TIMEZONE:Europe/Madrid
DESCRIPTION:
URI:https://www.ajhortons.cat/actualitat/agenda/activitat-de-cal-jove-.html
CLASS:PUBLIC
END:VEVENT
END:VCALENDAR
