BEGIN:VCALENDAR
VERSION:2.0
CALSCALE:GREGORIAN
PRODID:-//Diputació de Barcelona//DibaCMS//EN
BEGIN:VEVENT
UID:3944
DTSTAMP:20260420T183743
DTSTART:20240305T080000
DTEND:20240305T120000
SUMMARY:Unitat mòbil de tramitació de DNI  
LOCATION:
METHOD:PUBLISH
X-WR-CALNAME:st.llorensh@ajhortons.cat
X-WR-TIMEZONE:Europe/Madrid
DESCRIPTION:Demanar cita al 93 771 60 00

URI:https://www.ajhortons.cat/actualitat/agenda/3944-unitat-mobil-de-tramitacio-de-dni-.html
CLASS:PUBLIC
END:VEVENT
END:VCALENDAR
