BEGIN:VCALENDAR
VERSION:2.0
CALSCALE:GREGORIAN
PRODID:-//Diputació de Barcelona//DibaCMS//EN
BEGIN:VEVENT
UID:3947
DTSTAMP:20260420T203749
DTSTART:20240615T180000
DTEND:20240615T220000
SUMMARY:XVI IAplec Sardanista Sant LLorenç d'Hortons 
LOCATION:Plaça del Referèndum U d'Octubre  
METHOD:PUBLISH
X-WR-CALNAME:st.llorensh@ajhortons.cat
X-WR-TIMEZONE:Europe/Madrid
DESCRIPTION:
URI:https://www.ajhortons.cat/actualitat/agenda/xvi-iaplec-sardanista-sant-llorenc-dhortons-.html
CLASS:PUBLIC
END:VEVENT
END:VCALENDAR
