BEGIN:VCALENDAR
VERSION:2.0
CALSCALE:GREGORIAN
PRODID:-//Diputació de Barcelona//DibaCMS//EN
BEGIN:VEVENT
UID:3948
DTSTAMP:20260421T013421
DTSTART:20241110T090000
DTEND:20241110T130000
SUMMARY:Sortida Caminaires : Caves Vilarnau 
LOCATION:
METHOD:PUBLISH
X-WR-CALNAME:st.llorensh@ajhortons.cat
X-WR-TIMEZONE:Europe/Madrid
DESCRIPTION:Preu 10 euros 

URI:https://www.ajhortons.cat/actualitat/agenda/sortida-caminaires--caves-vilarnau-.html
CLASS:PUBLIC
END:VEVENT
END:VCALENDAR
