BEGIN:VCALENDAR
VERSION:2.0
CALSCALE:GREGORIAN
PRODID:-//Diputació de Barcelona//DibaCMS//EN
BEGIN:VEVENT
UID:3963
DTSTAMP:20260420T220713
DTSTART:20240712T220000
DTEND:20240712T235000
SUMMARY:Poetes a la bassa Gran 2024
LOCATION:
METHOD:PUBLISH
X-WR-CALNAME:st.llorensh@ajhortons.cat
X-WR-TIMEZONE:Europe/Madrid
DESCRIPTION:
URI:https://www.ajhortons.cat/actualitat/agenda/poetes-a-la-bassa-gran-2024.html
CLASS:PUBLIC
END:VEVENT
END:VCALENDAR
