BEGIN:VCALENDAR
VERSION:2.0
CALSCALE:GREGORIAN
PRODID:-//Diputació de Barcelona//DibaCMS//EN
BEGIN:VEVENT
UID:3964
DTSTAMP:20260420T234618
DTSTART:20240713T220000
DTEND:20240713T225500
SUMMARY:Trapelles teatre: El rei lleó
LOCATION:
METHOD:PUBLISH
X-WR-CALNAME:st.llorensh@ajhortons.cat
X-WR-TIMEZONE:Europe/Madrid
DESCRIPTION:
URI:https://www.ajhortons.cat/actualitat/agenda/trapelles-teatre-el-rei-lleo.html
CLASS:PUBLIC
END:VEVENT
END:VCALENDAR
