BEGIN:VCALENDAR
VERSION:2.0
CALSCALE:GREGORIAN
PRODID:-//Diputació de Barcelona//DibaCMS//EN
BEGIN:VEVENT
UID:3965
DTSTAMP:20260420T234442
DTSTART:20240628T000000
DTEND:20240629T000000
SUMMARY:Dia Internacional de l'Orgull de lesbianes, gais, trans, bisexuals i intersexuals
LOCATION:
METHOD:PUBLISH
X-WR-CALNAME:st.llorensh@ajhortons.cat
X-WR-TIMEZONE:Europe/Madrid
DESCRIPTION:
URI:https://www.ajhortons.cat/actualitat/agenda/dia-internacional-de-lorgull-de-lesbianes-gais-trans-bisexuals-i-intersexuals.html
CLASS:PUBLIC
END:VEVENT
END:VCALENDAR
