BEGIN:VCALENDAR
VERSION:2.0
CALSCALE:GREGORIAN
PRODID:-//Diputació de Barcelona//DibaCMS//EN
BEGIN:VEVENT
UID:3966
DTSTAMP:20260421T000432
DTSTART:20240615T000000
DTEND:20240615T000000
SUMMARY:Dia Mundial de la Presa de Consciència sobre l'Abús i el Maltractament a les Persones Grans
LOCATION:
METHOD:PUBLISH
X-WR-CALNAME:st.llorensh@ajhortons.cat
X-WR-TIMEZONE:Europe/Madrid
DESCRIPTION:
URI:https://www.ajhortons.cat/actualitat/agenda/dia-mundial-de-la-presa-de-consciencia-sobre-labus-i-el-maltractament-a-les-persones-grans.html
CLASS:PUBLIC
END:VEVENT
END:VCALENDAR
