BEGIN:VCALENDAR
VERSION:2.0
CALSCALE:GREGORIAN
PRODID:-//Diputació de Barcelona//DibaCMS//EN
BEGIN:VEVENT
UID:3976
DTSTAMP:20260420T201322
DTSTART:20240712T140000
DTEND:20240713T225500
SUMMARY:Festes de Can Serra
LOCATION:
METHOD:PUBLISH
X-WR-CALNAME:st.llorensh@ajhortons.cat
X-WR-TIMEZONE:Europe/Madrid
DESCRIPTION:
URI:https://www.ajhortons.cat/actualitat/agenda/festes-de-can-serra.html
CLASS:PUBLIC
END:VEVENT
END:VCALENDAR
