BEGIN:VCALENDAR
VERSION:2.0
CALSCALE:GREGORIAN
PRODID:-//Diputació de Barcelona//DibaCMS//EN
BEGIN:VEVENT
UID:3987
DTSTAMP:20260420T234542
DTSTART:20240714T120000
DTEND:20240714T145900
SUMMARY:Mulla’t per l’esclerosi múltiple! 
LOCATION:
METHOD:PUBLISH
X-WR-CALNAME:st.llorensh@ajhortons.cat
X-WR-TIMEZONE:Europe/Madrid
DESCRIPTION:
URI:https://www.ajhortons.cat/actualitat/agenda/mullat-per-lesclerosi-multiple-.html
CLASS:PUBLIC
END:VEVENT
END:VCALENDAR
