BEGIN:VCALENDAR
VERSION:2.0
CALSCALE:GREGORIAN
PRODID:-//Diputació de Barcelona//DibaCMS//EN
BEGIN:VEVENT
UID:3989
DTSTAMP:20260421T010142
DTSTART:20240719T190000
DTEND:20240720T000000
SUMMARY:Festes de La Vinya del Pollastre 
LOCATION:
METHOD:PUBLISH
X-WR-CALNAME:st.llorensh@ajhortons.cat
X-WR-TIMEZONE:Europe/Madrid
DESCRIPTION:
URI:https://www.ajhortons.cat/actualitat/agenda/festes-de-la-vinya-del-pollastre-.html
CLASS:PUBLIC
END:VEVENT
END:VCALENDAR
