BEGIN:VCALENDAR
VERSION:2.0
CALSCALE:GREGORIAN
PRODID:-//Diputació de Barcelona//DibaCMS//EN
BEGIN:VEVENT
UID:3995
DTSTAMP:20260421T010453
DTSTART:20240808T180000
DTEND:20240809T210000
SUMMARY:Els elements de la festa del Terrazel 
LOCATION:Major, 47 08791 Sant Llorenç d'Hortons
METHOD:PUBLISH
X-WR-CALNAME:st.llorensh@ajhortons.cat
X-WR-TIMEZONE:Europe/Madrid
DESCRIPTION:Actes Festa Major 2024

URI:https://www.ajhortons.cat/actualitat/agenda/els-elements-de-la-festa-del-terrazel-.html
CLASS:PUBLIC
END:VEVENT
END:VCALENDAR
