BEGIN:VCALENDAR
VERSION:2.0
CALSCALE:GREGORIAN
PRODID:-//Diputació de Barcelona//DibaCMS//EN
BEGIN:VEVENT
UID:3996
DTSTAMP:20260421T010323
DTSTART:20240811T180000
DTEND:20240811T210000
SUMMARY:Els elements de la festa del Terrazel 
LOCATION:Major, 47 08791 Sant Llorenç d'Hortons
METHOD:PUBLISH
X-WR-CALNAME:st.llorensh@ajhortons.cat
X-WR-TIMEZONE:Europe/Madrid
DESCRIPTION:
URI:https://www.ajhortons.cat/actualitat/agenda/3996-els-elements-de-la-festa-del-terrazel-.html
CLASS:PUBLIC
END:VEVENT
END:VCALENDAR
