BEGIN:VCALENDAR
VERSION:2.0
CALSCALE:GREGORIAN
PRODID:-//Diputació de Barcelona//DibaCMS//EN
BEGIN:VEVENT
UID:3998
DTSTAMP:20260421T025121
DTSTART:20240803T190000
DTEND:20240804T203000
SUMMARY:Partits de futbol Nens i dones 
LOCATION:Josep Tarradelles, s/n 08791 Sant Llorenç d'Hortons
METHOD:PUBLISH
X-WR-CALNAME:st.llorensh@ajhortons.cat
X-WR-TIMEZONE:Europe/Madrid
DESCRIPTION:Actes Festa Major 2024

Cal inscripció prèvia  

URI:https://www.ajhortons.cat/actualitat/agenda/3998-partits-de-futbol-nens-i-dones-.html
CLASS:PUBLIC
END:VEVENT
END:VCALENDAR
