BEGIN:VCALENDAR
VERSION:2.0
CALSCALE:GREGORIAN
PRODID:-//Diputació de Barcelona//DibaCMS//EN
BEGIN:VEVENT
UID:3999
DTSTAMP:20260420T231541
DTSTART:20240804T113000
DTEND:20240804T150000
SUMMARY:Festa de l'aigua 
LOCATION:Valls, s/n 08791 Sant Llorenç d'Hortons
METHOD:PUBLISH
X-WR-CALNAME:st.llorensh@ajhortons.cat
X-WR-TIMEZONE:Europe/Madrid
DESCRIPTION:Actes Festa Major 2024

URI:https://www.ajhortons.cat/actualitat/agenda/festa-de-laigua-.html
CLASS:PUBLIC
END:VEVENT
END:VCALENDAR
