BEGIN:VCALENDAR
VERSION:2.0
CALSCALE:GREGORIAN
PRODID:-//Diputació de Barcelona//DibaCMS//EN
BEGIN:VEVENT
UID:4000
DTSTAMP:20260421T024707
DTSTART:20240804T110000
DTEND:20240804T130000
SUMMARY:Festa de l'aigua: Inflables 
LOCATION:Valls, s/n 08791 Sant Llorenç d'Hortons
METHOD:PUBLISH
X-WR-CALNAME:st.llorensh@ajhortons.cat
X-WR-TIMEZONE:Europe/Madrid
DESCRIPTION:Actes Festa Major 2024

 

Entrada valida amb abonaments adquirint tiquet a taquilla. 
La recaptació es destinarà a finalitats benèfiques.

URI:https://www.ajhortons.cat/actualitat/agenda/festa-de-laigua-inflables-.html
CLASS:PUBLIC
END:VEVENT
END:VCALENDAR
